{
 "currentVersion": 10.91,
 "cimVersion": "2.9.0",
 "serviceDescription": "Tiled 2011 Imagery",
 "mapName": "AGS_tazewell_aerials_2011_SDE",
 "description": "Tiled 2011 Imagery",
 "copyrightText": "",
 "supportsDynamicLayers": true,
 "layers": [
  {
   "id": 0,
   "name": "Aerial 2011",
   "parentLayerId": -1,
   "defaultVisibility": true,
   "subLayerIds": null,
   "minScale": 0,
   "maxScale": 0,
   "type": "Raster Layer",
   "supportsDynamicLegends": true
  }
 ],
 "tables": [],
 "spatialReference": {
  "wkid": 102672,
  "latestWkid": 3436,
  "xyTolerance": 0.003280833333333333,
  "zTolerance": 2.0E-4,
  "mTolerance": 2.0E-4,
  "falseX": -16150900,
  "falseY": -46131100,
  "xyUnits": 1.372494229425764E8,
  "falseZ": -100000,
  "zUnits": 10000,
  "falseM": -100000,
  "mUnits": 10000
 },
 "singleFusedMapCache": true,
 "tileInfo": {
  "rows": 256,
  "cols": 256,
  "dpi": 96,
  "format": "JPEG",
  "compressionQuality": 75,
  "origin": {
   "x": -16150900,
   "y": 19495400
  },
  "spatialReference": {
   "wkid": 102672,
   "latestWkid": 3436,
   "xyTolerance": 0.003280833333333333,
   "zTolerance": 2.0E-4,
   "mTolerance": 2.0E-4,
   "falseX": -16150900,
   "falseY": -46131100,
   "xyUnits": 1.372494229425764E8,
   "falseZ": -100000,
   "zUnits": 10000,
   "falseM": -100000,
   "mUnits": 10000
  },
  "lods": [
   {
    "level": 0,
    "resolution": 217.01388888888889,
    "scale": 250000
   },
   {
    "level": 1,
    "resolution": 108.50694444444444,
    "scale": 125000
   },
   {
    "level": 2,
    "resolution": 55.55555555555555,
    "scale": 64000
   },
   {
    "level": 3,
    "resolution": 27.777777777777775,
    "scale": 32000
   },
   {
    "level": 4,
    "resolution": 13.888888888888888,
    "scale": 16000
   },
   {
    "level": 5,
    "resolution": 6.944444444444444,
    "scale": 8000
   },
   {
    "level": 6,
    "resolution": 3.472222222222222,
    "scale": 4000
   },
   {
    "level": 7,
    "resolution": 1.736111111111111,
    "scale": 2000
   },
   {
    "level": 8,
    "resolution": 0.8680555555555555,
    "scale": 1000
   },
   {
    "level": 9,
    "resolution": 0.43402777777777773,
    "scale": 500
   }
  ]
 },
 "storageInfo": {
  "storageFormat": "esriMapCacheStorageModeCompactV2",
  "packetSize": 128
 },
 "initialExtent": {
  "xmin": 2336673.1871199864,
  "ymin": 1325042.2617582316,
  "xmax": 2588316.1777156782,
  "ymax": 1487132.5866615064,
  "spatialReference": {
   "wkid": 102672,
   "latestWkid": 3436,
   "xyTolerance": 0.003280833333333333,
   "zTolerance": 2.0E-4,
   "mTolerance": 2.0E-4,
   "falseX": -16150900,
   "falseY": -46131100,
   "xyUnits": 1.372494229425764E8,
   "falseZ": -100000,
   "zUnits": 10000,
   "falseM": -100000,
   "mUnits": 10000
  }
 },
 "fullExtent": {
  "xmin": 2360000,
  "ymin": 1325000,
  "xmax": 2555000,
  "ymax": 1490000,
  "spatialReference": {
   "wkid": 102672,
   "latestWkid": 3436,
   "xyTolerance": 0.003280833333333333,
   "zTolerance": 2.0E-4,
   "mTolerance": 2.0E-4,
   "falseX": -16150900,
   "falseY": -46131100,
   "xyUnits": 1.372494229425764E8,
   "falseZ": -100000,
   "zUnits": 10000,
   "falseM": -100000,
   "mUnits": 10000
  }
 },
 "datesInUnknownTimezone": false,
 "minScale": 250000,
 "maxScale": 500,
 "maxLOD": 9,
 "units": "esriFeet",
 "supportedImageFormatTypes": "PNG32,PNG24,PNG,JPG,DIB,TIFF,EMF,PS,PDF,GIF,SVG,SVGZ,BMP",
 "documentInfo": {
  "Title": "Untitled.aprx",
  "Author": "",
  "Comments": "Tiled 2011 Imagery",
  "Subject": "Tiled 2011 Imagery",
  "Category": "",
  "AntialiasingMode": "Fast",
  "TextAntialiasingMode": "Force",
  "Version": "2.9.0",
  "Keywords": "tazewell county,imagery,2011"
 },
 "supportsQueryDomains": true,
 "capabilities": "Map,Query,Data",
 "supportedQueryFormats": "JSON, geoJSON, PBF",
 "exportTilesAllowed": false,
 "referenceScale": 0.0,
 "supportsDatumTransformation": true,
 "archivingInfo": {
  "supportsHistoricMoment": false
 },
 "supportsClipping": true,
 "supportsSpatialFilter": true,
 "supportsTimeRelation": true,
 "supportsQueryDataElements": true,
 "maxRecordCount": 2000,
 "maxImageHeight": 4096,
 "maxImageWidth": 4096,
 "supportedExtensions": "",
 "resampling": true,
 "serviceItemId": "e8850574a64d4407b8dcfa0f70dc5b73"
}
